BEGIN:VCALENDAR
VERSION:2.0
PRODID:-//Stumptown Mennonite Church - ECPv6.15.20//NONSGML v1.0//EN
CALSCALE:GREGORIAN
METHOD:PUBLISH
X-WR-CALNAME:Stumptown Mennonite Church
X-ORIGINAL-URL:https://stumptown.church
X-WR-CALDESC:Events for Stumptown Mennonite Church
REFRESH-INTERVAL;VALUE=DURATION:PT1H
X-Robots-Tag:noindex
X-PUBLISHED-TTL:PT1H
BEGIN:VTIMEZONE
TZID:America/New_York
BEGIN:DAYLIGHT
TZOFFSETFROM:-0500
TZOFFSETTO:-0400
TZNAME:EDT
DTSTART:20240310T070000
END:DAYLIGHT
BEGIN:STANDARD
TZOFFSETFROM:-0400
TZOFFSETTO:-0500
TZNAME:EST
DTSTART:20241103T060000
END:STANDARD
BEGIN:DAYLIGHT
TZOFFSETFROM:-0500
TZOFFSETTO:-0400
TZNAME:EDT
DTSTART:20250309T070000
END:DAYLIGHT
BEGIN:STANDARD
TZOFFSETFROM:-0400
TZOFFSETTO:-0500
TZNAME:EST
DTSTART:20251102T060000
END:STANDARD
BEGIN:DAYLIGHT
TZOFFSETFROM:-0500
TZOFFSETTO:-0400
TZNAME:EDT
DTSTART:20260308T070000
END:DAYLIGHT
BEGIN:STANDARD
TZOFFSETFROM:-0400
TZOFFSETTO:-0500
TZNAME:EST
DTSTART:20261101T060000
END:STANDARD
BEGIN:DAYLIGHT
TZOFFSETFROM:-0500
TZOFFSETTO:-0400
TZNAME:EDT
DTSTART:20270314T070000
END:DAYLIGHT
BEGIN:STANDARD
TZOFFSETFROM:-0400
TZOFFSETTO:-0500
TZNAME:EST
DTSTART:20271107T060000
END:STANDARD
END:VTIMEZONE
BEGIN:VTIMEZONE
TZID:UTC
BEGIN:STANDARD
TZOFFSETFROM:+0000
TZOFFSETTO:+0000
TZNAME:UTC
DTSTART:20240101T000000
END:STANDARD
END:VTIMEZONE
BEGIN:VEVENT
DTSTART;TZID=America/New_York:20260131T190000
DTEND;TZID=America/New_York:20260131T203000
DTSTAMP:20260423T222808
CREATED:20241210T173442Z
LAST-MODIFIED:20241210T173442Z
UID:10001989-1769886000-1769891400@stumptown.church
SUMMARY:Community Hymn Sing
DESCRIPTION:Doors open at 6pm for an evening of hymns and worship!
URL:https://stumptown.church/event/community-hymn-sing-6/
LOCATION:Stumptown Church\, 2813 Stumptown Rd\, Bird-in-Hand\, PA\, 17505
END:VEVENT
BEGIN:VEVENT
DTSTART;TZID=America/New_York:20260130T170000
DTEND;TZID=America/New_York:20260130T203000
DTSTAMP:20260423T222808
CREATED:20250917T161824Z
LAST-MODIFIED:20250917T161824Z
UID:10002202-1769792400-1769805000@stumptown.church
SUMMARY:Fifth Friday Fellowship
DESCRIPTION:Join the Young Adults of SMC and their friends for an evening of food\, fellowship\, and fun every 5th Friday.
URL:https://stumptown.church/event/fifth-friday-fellowship/2026-01-30/
LOCATION:Stumptown Church\, 2813 Stumptown Rd\, Bird-in-Hand\, PA\, 17505
END:VEVENT
BEGIN:VEVENT
DTSTART;TZID=America/New_York:20251130T190000
DTEND;TZID=America/New_York:20251130T203000
DTSTAMP:20260423T222808
CREATED:20241210T173340Z
LAST-MODIFIED:20250623T142931Z
UID:10001988-1764529200-1764534600@stumptown.church
SUMMARY:Community Hymn Sing
DESCRIPTION:Doors open at 6pm for an evening of hymns and worship!
URL:https://stumptown.church/event/community-hymn-sing-5/
LOCATION:Stumptown Church\, 2813 Stumptown Rd\, Bird-in-Hand\, PA\, 17505
END:VEVENT
BEGIN:VEVENT
DTSTART;TZID=America/New_York:20251130T120000
DTEND;TZID=America/New_York:20251130T140000
DTSTAMP:20260423T222808
CREATED:20221014T170005Z
LAST-MODIFIED:20240819T150120Z
UID:10001781-1764504000-1764511200@stumptown.church
SUMMARY:Swahili Worship Service
DESCRIPTION:Join us in worship\, (celebrated in Swahili).  Prayer\, praise\, testimonies\, question-and-answer\, and a message make up a typical Swahili worship here at Stumptown. When English speakers are present\, someone will translate!
URL:https://stumptown.church/event/swahili-worship-service/2025-11-30/
LOCATION:Stumptown Church\, 2813 Stumptown Rd\, Bird-in-Hand\, PA\, 17505
END:VEVENT
BEGIN:VEVENT
DTSTART;TZID=America/New_York:20251130T100000
DTEND;TZID=America/New_York:20251130T113000
DTSTAMP:20260423T222808
CREATED:20221014T165758Z
LAST-MODIFIED:20221014T165758Z
UID:10001623-1764496800-1764502200@stumptown.church
SUMMARY:Worship Service
DESCRIPTION:Join us in worship\, (celebrated in English).  Prayer\, praise\, and a message make up a typical Sunday morning worship here at Stumptown.  Throughout the year we will also have children’s messages\, moments in mission\, testimonies\, communion\, baptisms\, and more!
URL:https://stumptown.church/event/worship-service/2025-11-30/
LOCATION:Stumptown Church\, 2813 Stumptown Rd\, Bird-in-Hand\, PA\, 17505
END:VEVENT
BEGIN:VEVENT
DTSTART;TZID=America/New_York:20251130T090000
DTEND;TZID=America/New_York:20251130T095000
DTSTAMP:20260423T222808
CREATED:20221014T171819Z
LAST-MODIFIED:20240311T173618Z
UID:10001942-1764493200-1764496200@stumptown.church
SUMMARY:Sunday School
DESCRIPTION:We have Sunday School classes for ages 2 through adult!  Join us from 9:00-9:50 am. \nSunday School Classes
URL:https://stumptown.church/event/sunday-school/2025-11-30/
LOCATION:Stumptown Church\, 2813 Stumptown Rd\, Bird-in-Hand\, PA\, 17505
END:VEVENT
BEGIN:VEVENT
DTSTART;TZID=America/New_York:20251127T190000
DTEND;TZID=America/New_York:20251127T210000
DTSTAMP:20260423T222808
CREATED:20210827T192150Z
LAST-MODIFIED:20240528T172137Z
UID:10001407-1764270000-1764277200@stumptown.church
SUMMARY:Table Tennis
DESCRIPTION:
URL:https://stumptown.church/event/table-tennis/2025-11-27/
LOCATION:Stumptown Church\, 2813 Stumptown Rd\, Bird-in-Hand\, PA\, 17505
END:VEVENT
BEGIN:VEVENT
DTSTART;TZID=UTC:20251126T190000
DTEND;TZID=UTC:20251126T210000
DTSTAMP:20260423T222808
CREATED:20220831T134434Z
LAST-MODIFIED:20240528T170832Z
UID:10001450-1764183600-1764190800@stumptown.church
SUMMARY:Prayer Gathering
DESCRIPTION:
URL:https://stumptown.church/event/prayer-gathering-2/2025-11-26/
LOCATION:Stumptown Church\, 2813 Stumptown Rd\, Bird-in-Hand\, PA\, 17505
END:VEVENT
BEGIN:VEVENT
DTSTART;TZID=America/New_York:20251116T113000
DTEND;TZID=America/New_York:20251116T130000
DTSTAMP:20260423T222808
CREATED:20250129T173910Z
LAST-MODIFIED:20250129T173910Z
UID:10002074-1763292600-1763298000@stumptown.church
SUMMARY:Fellowship Sundays
DESCRIPTION:Bring lunch and stay for organic gatherings. Let’s grow together as we share life and listen to God’s leading.
URL:https://stumptown.church/event/fellowship-sundays/2025-11-16/
LOCATION:Stumptown Church\, 2813 Stumptown Rd\, Bird-in-Hand\, PA\, 17505
END:VEVENT
BEGIN:VEVENT
DTSTART;TZID=America/New_York:20251116T083000
DTEND;TZID=America/New_York:20251116T093000
DTSTAMP:20260423T222808
CREATED:20221216T160016Z
LAST-MODIFIED:20250129T174209Z
UID:10001978-1763281800-1763285400@stumptown.church
SUMMARY:Coffee Hour
DESCRIPTION:Join us for a simple coffee hour to start your morning.  Use this as a lead-in for Sunday School\, or as a time of fellowship.  Coffee Hour will take place the third Sunday of each month.
URL:https://stumptown.church/event/coffee-hour/2025-11-16/
LOCATION:Stumptown Church\, 2813 Stumptown Rd\, Bird-in-Hand\, PA\, 17505
END:VEVENT
BEGIN:VEVENT
DTSTART;TZID=America/New_York:20251114T180000
DTEND;TZID=America/New_York:20251114T200000
DTSTAMP:20260423T222808
CREATED:20250917T163420Z
LAST-MODIFIED:20250917T163420Z
UID:10002222-1763143200-1763150400@stumptown.church
SUMMARY:Celebration of Culture Dinner
DESCRIPTION:More details to come.
URL:https://stumptown.church/event/celebration-of-culture-dinner/
LOCATION:Stumptown Church\, 2813 Stumptown Rd\, Bird-in-Hand\, PA\, 17505
END:VEVENT
BEGIN:VEVENT
DTSTART;TZID=America/New_York:20251111T090000
DTEND;TZID=America/New_York:20251111T113000
DTSTAMP:20260423T222808
CREATED:20210827T163004Z
LAST-MODIFIED:20250305T150246Z
UID:10001108-1762851600-1762860600@stumptown.church
SUMMARY:Sewing Circle
DESCRIPTION:Sewing Circle meets on the second Tuesday morning of each month. Women (and sometimes even a few men) make items to help those in need around the world by knotting comforters\, cutting strings for kit bags\, cutting fabric and machine sewing\, assembling Mennonite Central Committee kits\, and quilting. All ages are welcome.
URL:https://stumptown.church/event/sewing-circle/2025-11-11/
LOCATION:Stumptown Church\, 2813 Stumptown Rd\, Bird-in-Hand\, PA\, 17505
END:VEVENT
BEGIN:VEVENT
DTSTART;TZID=America/New_York:20251109T113000
DTEND;TZID=America/New_York:20251109T140000
DTSTAMP:20260423T222808
CREATED:20221012T163837Z
LAST-MODIFIED:20250917T163244Z
UID:10001454-1762687800-1762696800@stumptown.church
SUMMARY:Congregational Lunch and Meeting
DESCRIPTION:Join us for a fellowship meal\, followed by a congregational meeting looking back at 2024 and forward to 2026. \nChildcare will be provided.
URL:https://stumptown.church/event/vision-night-fellowship-meal/
LOCATION:Stumptown Church\, 2813 Stumptown Rd\, Bird-in-Hand\, PA\, 17505
END:VEVENT
BEGIN:VEVENT
DTSTART;TZID=America/New_York:20251105T183000
DTEND;TZID=America/New_York:20251105T203000
DTSTAMP:20260423T222808
CREATED:20211110T204053Z
LAST-MODIFIED:20250716T165929Z
UID:10001420-1762367400-1762374600@stumptown.church
SUMMARY:Youth Group
DESCRIPTION:Youth in grades 7-12 are welcome to join an evening of fun\, fellowship\, and Bible study.
URL:https://stumptown.church/event/youth-group/2025-11-05/
LOCATION:Stumptown Church\, 2813 Stumptown Rd\, Bird-in-Hand\, PA\, 17505
ORGANIZER;CN="Stumptown Church":MAILTO:office@stumptown.church
END:VEVENT
BEGIN:VEVENT
DTSTART;TZID=America/New_York:20251102T113000
DTEND;TZID=America/New_York:20251102T123000
DTSTAMP:20260423T222808
CREATED:20230103T193332Z
LAST-MODIFIED:20240819T144153Z
UID:10002065-1762083000-1762086600@stumptown.church
SUMMARY:Welcome Lunch
DESCRIPTION:Visitors and guests are invited to stay for lunch.  Welcome Lunches will occur the first Sunday of every month.
URL:https://stumptown.church/event/welcome-lunch/2025-11-02/
LOCATION:Stumptown Church\, 2813 Stumptown Rd\, Bird-in-Hand\, PA\, 17505
END:VEVENT
BEGIN:VEVENT
DTSTART;TZID=America/New_York:20251029T183000
DTEND;TZID=America/New_York:20251029T210000
DTSTAMP:20260423T222808
CREATED:20230310T144139Z
LAST-MODIFIED:20240528T172023Z
UID:10002109-1761762600-1761771600@stumptown.church
SUMMARY:Youth Group Service Project
DESCRIPTION:Join us at Ephrata MCC from 7-8:30 pm\, or carpool from SMC (6:30-9:00)
URL:https://stumptown.church/event/youth-group-service-project/2025-10-29/
LOCATION:Stumptown Church\, 2813 Stumptown Rd\, Bird-in-Hand\, PA\, 17505
END:VEVENT
BEGIN:VEVENT
DTSTART;TZID=America/New_York:20251026T113000
DTEND;TZID=America/New_York:20251026T130000
DTSTAMP:20260423T222808
CREATED:20250917T161519Z
LAST-MODIFIED:20250917T161519Z
UID:10002200-1761478200-1761483600@stumptown.church
SUMMARY:Christian Education Fundraiser
DESCRIPTION:Join us after worship for a BBQ fundraiser for our Christian Education Fund.
URL:https://stumptown.church/event/christian-education-fundraiser/
LOCATION:Stumptown Church\, 2813 Stumptown Rd\, Bird-in-Hand\, PA\, 17505
END:VEVENT
BEGIN:VEVENT
DTSTART;TZID=America/New_York:20251012T170000
DTEND;TZID=America/New_York:20251012T200000
DTSTAMP:20260423T222808
CREATED:20250917T161253Z
LAST-MODIFIED:20250917T161253Z
UID:10002199-1760288400-1760299200@stumptown.church
SUMMARY:Youth Fall Bash
DESCRIPTION:Join us for the district’s annual youth event.
URL:https://stumptown.church/event/youth-fall-bash/
LOCATION:Stumptown Church\, 2813 Stumptown Rd\, Bird-in-Hand\, PA\, 17505
END:VEVENT
BEGIN:VEVENT
DTSTART;TZID=America/New_York:20250929T083000
DTEND;TZID=America/New_York:20250929T200000
DTSTAMP:20260423T222808
CREATED:20250917T160814Z
LAST-MODIFIED:20250917T160814Z
UID:10002198-1759134600-1759176000@stumptown.church
SUMMARY:Prayer Stations Day
DESCRIPTION:The time spans where the stations will be available are 8:30am-12pm\, 1:30pm-4pm\, and 6-8:30pm.\nThe stations will have guided scripture reading\, prayer\, and response.
URL:https://stumptown.church/event/prayer-stations-day/
LOCATION:Stumptown Church\, 2813 Stumptown Rd\, Bird-in-Hand\, PA\, 17505
END:VEVENT
BEGIN:VEVENT
DTSTART;TZID=America/New_York:20250831T190000
DTEND;TZID=America/New_York:20250831T203000
DTSTAMP:20260423T222808
CREATED:20241210T173243Z
LAST-MODIFIED:20250623T142845Z
UID:10001987-1756666800-1756672200@stumptown.church
SUMMARY:Community Hymn Sing
DESCRIPTION:Doors open at 6pm for an evening of hymns and worship!
URL:https://stumptown.church/event/community-hymn-sing-4/
LOCATION:Stumptown Church\, 2813 Stumptown Rd\, Bird-in-Hand\, PA\, 17505
END:VEVENT
BEGIN:VEVENT
DTSTART;TZID=America/New_York:20250731T180000
DTEND;TZID=America/New_York:20250731T200000
DTSTAMP:20260423T222808
CREATED:20250423T135138Z
LAST-MODIFIED:20250630T145653Z
UID:10002114-1753984800-1753992000@stumptown.church
SUMMARY:"Live It Out: Discover How To love Like Jesus" Vacation Bible School
DESCRIPTION:Ages 3 to grade 6 are invited to participate in a week of fun and fellowship!\nWe’ll learn that Jesus is the best reason to celebrate\, and that everyone is invited to His party!! \nRegister online here.
URL:https://stumptown.church/event/live-it-out-discover-how-to-love-like-jesus-vacation-bible-school/2025-07-31/
LOCATION:Stumptown Church\, 2813 Stumptown Rd\, Bird-in-Hand\, PA\, 17505
END:VEVENT
BEGIN:VEVENT
DTSTART;TZID=America/New_York:20250726T090000
DTEND;TZID=America/New_York:20250726T120000
DTSTAMP:20260423T222808
CREATED:20250429T144044Z
LAST-MODIFIED:20250429T144044Z
UID:10002194-1753520400-1753531200@stumptown.church
SUMMARY:VBS Decorating Day
DESCRIPTION:Help us prepare for Vacation Bible School by making decorations and preparing supplies
URL:https://stumptown.church/event/vbs-decorating-day-2/
LOCATION:Stumptown Church\, 2813 Stumptown Rd\, Bird-in-Hand\, PA\, 17505
END:VEVENT
BEGIN:VEVENT
DTSTART;TZID=America/New_York:20250725T180000
DTEND;TZID=America/New_York:20250725T200000
DTSTAMP:20260423T222808
CREATED:20250429T143949Z
LAST-MODIFIED:20250429T143949Z
UID:10002193-1753466400-1753473600@stumptown.church
SUMMARY:VBS Decorating Night
DESCRIPTION:Help us prepare for Vacation Bible School by making decorations and preparing supplies
URL:https://stumptown.church/event/vbs-decorating-night/
LOCATION:Stumptown Church\, 2813 Stumptown Rd\, Bird-in-Hand\, PA\, 17505
END:VEVENT
BEGIN:VEVENT
DTSTART;TZID=America/New_York:20250723T190000
DTEND;TZID=America/New_York:20250723T210000
DTSTAMP:20260423T222808
CREATED:20240528T170711Z
LAST-MODIFIED:20250120T170559Z
UID:10002167-1753297200-1753304400@stumptown.church
SUMMARY:Youth Group - High School
DESCRIPTION:9th-12th graders meet once a month without the junior high youth
URL:https://stumptown.church/event/youth-group-high-school/2025-07-23/
LOCATION:Stumptown Church\, 2813 Stumptown Rd\, Bird-in-Hand\, PA\, 17505
END:VEVENT
BEGIN:VEVENT
DTSTART;TZID=America/New_York:20250723T090000
DTEND;TZID=America/New_York:20250723T120000
DTSTAMP:20260423T222808
CREATED:20250429T143850Z
LAST-MODIFIED:20250429T143850Z
UID:10002192-1753261200-1753272000@stumptown.church
SUMMARY:VBS Decorating Day
DESCRIPTION:Help us prepare for Vacation Bible School by making decorations and preparing supplies.
URL:https://stumptown.church/event/vbs-decorating-day/
LOCATION:Stumptown Church\, 2813 Stumptown Rd\, Bird-in-Hand\, PA\, 17505
END:VEVENT
BEGIN:VEVENT
DTSTART;TZID=America/New_York:20250716T180000
DTEND;TZID=America/New_York:20250716T200000
DTSTAMP:20260423T222808
CREATED:20250429T143749Z
LAST-MODIFIED:20250429T143749Z
UID:10002191-1752688800-1752696000@stumptown.church
SUMMARY:VBS Prep Night
DESCRIPTION:Help us prepare for Vacation Bible School by making decorations and preparing supplies
URL:https://stumptown.church/event/vbs-prep-night-7/
LOCATION:Stumptown Church\, 2813 Stumptown Rd\, Bird-in-Hand\, PA\, 17505
END:VEVENT
BEGIN:VEVENT
DTSTART;TZID=America/New_York:20250702T180000
DTEND;TZID=America/New_York:20250702T200000
DTSTAMP:20260423T222808
CREATED:20250429T142839Z
LAST-MODIFIED:20250429T142839Z
UID:10002190-1751479200-1751486400@stumptown.church
SUMMARY:VBS Prep Night
DESCRIPTION:Help us prepare for Vacation Bible School by making decorations and preparing supplies
URL:https://stumptown.church/event/vbs-prep-night-6/
LOCATION:Stumptown Church\, 2813 Stumptown Rd\, Bird-in-Hand\, PA\, 17505
END:VEVENT
BEGIN:VEVENT
DTSTART;TZID=America/New_York:20250629T203000
DTEND;TZID=America/New_York:20250629T213000
DTSTAMP:20260423T222808
CREATED:20250609T171115Z
LAST-MODIFIED:20250609T171115Z
UID:10002195-1751229000-1751232600@stumptown.church
SUMMARY:Youth Group Ice Cream Fundraiser
DESCRIPTION:After our evening hymn sing join us for our annual youth ice cream fundraiser
URL:https://stumptown.church/event/youth-group-ice-cream-fundraiser/
LOCATION:Stumptown Church\, 2813 Stumptown Rd\, Bird-in-Hand\, PA\, 17505
END:VEVENT
BEGIN:VEVENT
DTSTART;TZID=America/New_York:20250629T190000
DTEND;TZID=America/New_York:20250629T203000
DTSTAMP:20260423T222808
CREATED:20250619T162445Z
LAST-MODIFIED:20250619T162445Z
UID:10002197-1751223600-1751229000@stumptown.church
SUMMARY:Community Hymn Sing
DESCRIPTION:Doors open at 6 pm for seating. \nFollowing the hymn sing\, our youth group will host an ice cream fundraiser. \n 
URL:https://stumptown.church/event/community-hymn-sing-7/
LOCATION:Stumptown Church\, 2813 Stumptown Rd\, Bird-in-Hand\, PA\, 17505
END:VEVENT
BEGIN:VEVENT
DTSTART;TZID=America/New_York:20250622T160000
DTEND;TZID=America/New_York:20250622T173000
DTSTAMP:20260423T222808
CREATED:20250609T171528Z
LAST-MODIFIED:20250609T171528Z
UID:10002196-1750608000-1750613400@stumptown.church
SUMMARY:Bishop Installation
DESCRIPTION:Join us for a service where Lead Pastor Keith Nyce will be installed as a new Bishop in the Conestoga River District.
URL:https://stumptown.church/event/bishop-installation/
LOCATION:Stumptown Church\, 2813 Stumptown Rd\, Bird-in-Hand\, PA\, 17505
END:VEVENT
END:VCALENDAR